BEGIN:VCALENDAR
VERSION:2.0
PRODID:Imitheme.com
BEGIN:VEVENT
UID:20260419T184830-1538406135
DTSTAMP;TZID=UTC:1776624510
DTSTART;TZID=America/Los_Angeles:20260419T184830
DTEND;TZID=America/Los_Angeles:20260419T184830
SUMMARY:Six Months Programs Hospitality Management - Culinary Art Course (QE2)
LOCATION:Dubai
DESCRIPTION: The Culinary Art program is designed to train future chefs and kitchen professionals over a six-month period. During the academic phase (first three months), students develop core culinary techniques, food preparation methods, kitchen hygiene, menu planning, and international cuisines through practical kitchen labs. The three-month internship allows students to work in professional kitchens, applying their skills in food production, plating, and teamwork. This blend of theory and practice equips learners for careers as commis chefs, kitchen assistants, or junior culinary staff.https://www.oel-group.com/training/six-months-programs-hospitality-management-culinary-art-course-qe2/
URL:https://www.oel-group.com/training/six-months-programs-hospitality-management-culinary-art-course-qe2/
END:VEVENT
END:VCALENDAR
