BEGIN:VCALENDAR
VERSION:2.0
PRODID:Imitheme.com
BEGIN:VEVENT
UID:20260422T143429-1072096168
DTSTAMP;TZID=UTC:1776868469
DTSTART;TZID=America/Los_Angeles:20260422T143429
DTEND;TZID=America/Los_Angeles:20260422T143429
SUMMARY:OTSCGG001 - Combined Cycle Gas Turbine Performance
LOCATION:Dubai
DESCRIPTION: This course goes through the overview of a Combined Cycle Gas Turbine, this will be followed by the different types of Gas Turbine. This is then expanded on to give a detailed understanding of the performance and management of the operations of a Combined Cycle Gas Turbine.   https://www.oel-group.com/training/otscgg001-combined-cycle-gas-turbine-performance/
URL:https://www.oel-group.com/training/otscgg001-combined-cycle-gas-turbine-performance/
END:VEVENT
END:VCALENDAR
