BEGIN:VCALENDAR
VERSION:2.0
PRODID:Imitheme.com
BEGIN:VEVENT
UID:20260422T143129-800214633
DTSTAMP;TZID=UTC:1776868289
DTSTART;TZID=America/Los_Angeles:20260422T143129
DTEND;TZID=America/Los_Angeles:20260422T143129
SUMMARY:OTSMKVIEP001 - MK VIe Maintenance
LOCATION:Dubai
DESCRIPTION:         https://www.oel-group.com/training/otsmkviep001-mk-vie-maintenance/
URL:https://www.oel-group.com/training/otsmkviep001-mk-vie-maintenance/
END:VEVENT
END:VCALENDAR
