BEGIN:VCALENDAR
VERSION:2.0
PRODID:Imitheme.com
BEGIN:VEVENT
UID:20260419T170327-2138105874
DTSTAMP;TZID=UTC:1776618207
DTSTART;TZID=America/Los_Angeles:20260419T170327
DTEND;TZID=America/Los_Angeles:20260419T170327
SUMMARY:H2S Awareness Basic
LOCATION:Dubai
DESCRIPTION: https://www.oel-group.com/ae/training/h2s-awareness-basic/
URL:https://www.oel-group.com/ae/training/h2s-awareness-basic/
END:VEVENT
END:VCALENDAR
