BEGIN:VCALENDAR
VERSION:2.0
PRODID:Imitheme.com
BEGIN:VEVENT
UID:20260419T163521-1385036353
DTSTAMP;TZID=UTC:1776616521
DTSTART;TZID=America/Los_Angeles:20260419T163521
DTEND;TZID=America/Los_Angeles:20260419T163521
SUMMARY:Basic Occupational Health and Safety
LOCATION:Dubai
DESCRIPTION: https://www.oel-group.com/ae/training/basic-occupational-health-and-safety/
URL:https://www.oel-group.com/ae/training/basic-occupational-health-and-safety/
END:VEVENT
END:VCALENDAR
