BEGIN:VCALENDAR
VERSION:2.0
PRODID:Imitheme.com
BEGIN:VEVENT
UID:20260419T170456-641664924
DTSTAMP;TZID=UTC:1776618296
DTSTART;TZID=America/Los_Angeles:20260419T170456
DTEND;TZID=America/Los_Angeles:20260419T170456
SUMMARY:Train The Trainer
LOCATION:Dubai
DESCRIPTION: https://www.oel-group.com/ae/training/train-the-trainer/
URL:https://www.oel-group.com/ae/training/train-the-trainer/
END:VEVENT
END:VCALENDAR
