BEGIN:VCALENDAR
VERSION:2.0
PRODID:Imitheme.com
BEGIN:VEVENT
UID:20260419T170334-776727849
DTSTAMP;TZID=UTC:1776618214
DTSTART;TZID=America/Los_Angeles:20260419T170334
DTEND;TZID=America/Los_Angeles:20260419T170334
SUMMARY:OTSAN001 - Advanced Negotiation
LOCATION:Dubai
DESCRIPTION:     https://www.oel-group.com/ae/training/otsan001-advanced-negotiation/
URL:https://www.oel-group.com/ae/training/otsan001-advanced-negotiation/
END:VEVENT
END:VCALENDAR
