BEGIN:VCALENDAR
VERSION:2.0
PRODID:Imitheme.com
BEGIN:VEVENT
UID:20260422T141715-1451086030
DTSTAMP;TZID=UTC:1776867435
DTSTART;TZID=America/Los_Angeles:20260422T141715
DTEND;TZID=America/Los_Angeles:20260422T141715
SUMMARY:OTSLM001 - Leadership and Management
LOCATION:United Kingdom
DESCRIPTION: https://www.oel-group.com/ae/training/otslm001-leadership-and-management/
URL:https://www.oel-group.com/ae/training/otslm001-leadership-and-management/
END:VEVENT
END:VCALENDAR
