BEGIN:VCALENDAR
VERSION:2.0
PRODID:Imitheme.com
BEGIN:VEVENT
UID:20260420T163350-1314997944
DTSTAMP;TZID=UTC:1776702830
DTSTART;TZID=America/Los_Angeles:20260420T163350
DTEND;TZID=America/Los_Angeles:20260420T163350
SUMMARY:OTSBFA001 - Maintenance Management and Planning
LOCATION:United Kingdom
DESCRIPTION: This course has been designed to give a detailed understanding of the maintenance management requirements and processes associated with a modern industrial process or power plant. The course will examine the various approaches to maintenance and discuss in detail the objectives of outage planning as regards manpower, financial estimating and spares resourcing. An overview of the requirements of a maintenance management system will also be provided. https://www.oel-group.com/ae/training/otsbfa001-maintenance-management-and-planning/
URL:https://www.oel-group.com/ae/training/otsbfa001-maintenance-management-and-planning/
END:VEVENT
END:VCALENDAR
