BEGIN:VCALENDAR
VERSION:2.0
PRODID:Imitheme.com
BEGIN:VEVENT
UID:20260422T141740-1744000983
DTSTAMP;TZID=UTC:1776867460
DTSTART;TZID=America/Los_Angeles:20260422T141740
DTEND;TZID=America/Los_Angeles:20260422T141740
SUMMARY:OTSRCFA001 - Root Cause Failure Analysis
LOCATION:United Kingdom
DESCRIPTION: Machinery Failure Analysis and Root Cause Failure Analysis (RCFA) and the crucial role they are now playing in maximizing the reliability and the effectiveness of machinery for companies to remain competitive in a global place. The purpose of RCFA is to resolve problems that effect plant performance. The course will also outline why and when not to use Root Cause Failure Analysis and shall also look at a brief introduction to Asset Management. https://www.oel-group.com/ae/training/otsrcfa001-root-cause-failure-analysis-2/
URL:https://www.oel-group.com/ae/training/otsrcfa001-root-cause-failure-analysis-2/
END:VEVENT
END:VCALENDAR
