BEGIN:VCALENDAR
VERSION:2.0
PRODID:Imitheme.com
BEGIN:VEVENT
UID:20260419T163900-502539002
DTSTAMP;TZID=UTC:1776616740
DTSTART;TZID=America/Los_Angeles:20260419T163900
DTEND;TZID=America/Los_Angeles:20260419T163900
SUMMARY:OTSRLA001 - Reverse and Laser Alignment
LOCATION:Dubai
DESCRIPTION: This course will provide practical training on the main alignment techniques including Reverse Alignment and Laser Alignment. Students will be given opportunity to practice these alignment techniques on our training rigs and will use a Pruftechnik Laser Alignment system as part of the training process. https://www.oel-group.com/ae/training/otsrla001-reverse-and-laser-alignment/
URL:https://www.oel-group.com/ae/training/otsrla001-reverse-and-laser-alignment/
END:VEVENT
END:VCALENDAR
