BEGIN:VCALENDAR
VERSION:2.0
PRODID:Imitheme.com
BEGIN:VEVENT
UID:20260419T163900-55005403
DTSTAMP;TZID=UTC:1776616740
DTSTART;TZID=America/Los_Angeles:20260419T163900
DTEND;TZID=America/Los_Angeles:20260419T163900
SUMMARY:OTSPPO001 - Planning, Prioritising and Organising
LOCATION:Dubai
DESCRIPTION: Along with communication and computer skills, organisational skills is one of the most important transferable job skills a worker can possess. Companies need workers who can stay organised and focus on the projects at hand. However, company managers must also organise the work of their employees. Organisational skills in the workplace can include general organizing, planning, time management, scheduling, coordinating resources and meeting deadlines. Planning is another needed workplace skill, and it is particularly important as person advances into more supervisory or managerial roles. Most work is centred around certain projects that must be completed within a specific time period. Projects are usually divided into many different tasks, and workers must plan their tasks ahead of time to bring the project to fruition. A person can also plan ahead in case certain problems come up that could potentially delay the project. Developing both these skills allows you to deliver results and prevent future problems. It requires a set of skills which we will help you deliver during this workshop.   https://www.oel-group.com/ae/training/otsppo001-planning-prioritising-and-organising/
URL:https://www.oel-group.com/ae/training/otsppo001-planning-prioritising-and-organising/
END:VEVENT
END:VCALENDAR
