BEGIN:VCALENDAR
VERSION:2.0
PRODID:Imitheme.com
BEGIN:VEVENT
UID:20260419T170450-558384556
DTSTAMP;TZID=UTC:1776618290
DTSTART;TZID=America/Los_Angeles:20260419T170450
DTEND;TZID=America/Los_Angeles:20260419T170450
SUMMARY:OTSUPS001 - UPS System &amp; Power Conditioners
LOCATION:Dubai
DESCRIPTION:     https://www.oel-group.com/ae/training/otsups001-ups-system-power-conditioners-2/
URL:https://www.oel-group.com/ae/training/otsups001-ups-system-power-conditioners-2/
END:VEVENT
END:VCALENDAR
