BEGIN:VCALENDAR
VERSION:2.0
PRODID:Imitheme.com
BEGIN:VEVENT
UID:20260420T023416-1302323531
DTSTAMP;TZID=UTC:1776652456
DTSTART;TZID=America/Los_Angeles:20260420T023416
DTEND;TZID=America/Los_Angeles:20260420T023416
SUMMARY:OTSRBIT001 - Risk Based Inspection Techniques
LOCATION:Dubai
DESCRIPTION: The Course will provide an insight into the benefits of Risk Based Inspection and the planning of inspection using risk analysis. It will also clearly outline that the purpose of Risk Analysis and to assess the consequences and risks of failure. As such the inspection plan can then target high-risk equipment and be designed to detect potential degradation before fitness-for-service can be threatened.     https://www.oel-group.com/ae/training/otsrbit001-risk-based-inspection-techniques/
URL:https://www.oel-group.com/ae/training/otsrbit001-risk-based-inspection-techniques/
END:VEVENT
END:VCALENDAR
