BEGIN:VCALENDAR
VERSION:2.0
PRODID:Imitheme.com
BEGIN:VEVENT
UID:20260420T165954-1349119234
DTSTAMP;TZID=UTC:1776704394
DTSTART;TZID=America/Los_Angeles:20260420T165954
DTEND;TZID=America/Los_Angeles:20260420T165954
SUMMARY:OTSEM001 - Electrical Motors
LOCATION:Dubai
DESCRIPTION: This training course covers the basic AC and DC electric motor theory and characteristics followed by a look at how to maintain, test and protect electrical motors. The cost of maintaining electrical motors can be a significant amount in the budget item of manufacturing industries. This course gives a thorough understanding of electrical motor’s working, maintenance and failure modes and gives you the tools to maintain and troubleshoot electrical motors. This course gives a fundamental understanding of the installation, operation and troubleshooting of electric motors. Typical applications of electric motors in manufacturing, materials handling, process control are covered in detail. It gives the basic steps in specifying, installing, wiring and commissioning motors. The concluding section of the course gives the fundamental tools in troubleshooting motors confidently and effectively, Using Motor, Electric Traction & Electrical Control Trainer simulator.     https://www.oel-group.com/ae/training/o-349-efficiency-at-work-2/
URL:https://www.oel-group.com/ae/training/o-349-efficiency-at-work-2/
END:VEVENT
END:VCALENDAR
