BEGIN:VCALENDAR
VERSION:2.0
PRODID:Imitheme.com
BEGIN:VEVENT
UID:20260422T174727-1357706440
DTSTAMP;TZID=UTC:1776880047
DTSTART;TZID=America/Los_Angeles:20260422T174727
DTEND;TZID=America/Los_Angeles:20260422T174727
SUMMARY:OTSMKVIEP001 - MK VIe Maintenance
LOCATION:Dubai
DESCRIPTION:         https://www.oel-group.com/ae/training/otsmkviep001-mk-vie-maintenance/
URL:https://www.oel-group.com/ae/training/otsmkviep001-mk-vie-maintenance/
END:VEVENT
END:VCALENDAR
