BEGIN:VCALENDAR
VERSION:2.0
PRODID:Imitheme.com
BEGIN:VEVENT
UID:20260420T181705-1482532701
DTSTAMP;TZID=UTC:1776709025
DTSTART;TZID=America/Los_Angeles:20260420T181705
DTEND;TZID=America/Los_Angeles:20260420T181705
SUMMARY:OTSPSPA001 - Power System Protection & Analysis
LOCATION:Dubai
DESCRIPTION: This course covers the analysis of power system faults for small and large scale systems. This will be followed by the basic protection functions and their applications to the protection of all elements of power systems. The course emphasizes advanced protection schemes required for practical systems experienced in industrial plants, distribution, transmission and generation systems.       https://www.oel-group.com/ae/training/otspspa001-power-system-protection-analysis/
URL:https://www.oel-group.com/ae/training/otspspa001-power-system-protection-analysis/
END:VEVENT
END:VCALENDAR
