BEGIN:VCALENDAR
VERSION:2.0
PRODID:Imitheme.com
BEGIN:VEVENT
UID:20260422T161822-1740402904
DTSTAMP;TZID=UTC:1776874702
DTSTART;TZID=America/Los_Angeles:20260422T161822
DTEND;TZID=America/Los_Angeles:20260422T161822
SUMMARY:OTSCGG001 - Combined Cycle Gas Turbine Performance
LOCATION:Dubai
DESCRIPTION: This course goes through the overview of a Combined Cycle Gas Turbine, this will be followed by the different types of Gas Turbine. This is then expanded on to give a detailed understanding of the performance and management of the operations of a Combined Cycle Gas Turbine.   https://www.oel-group.com/ae/training/otscgg001-combined-cycle-gas-turbine-performance/
URL:https://www.oel-group.com/ae/training/otscgg001-combined-cycle-gas-turbine-performance/
END:VEVENT
END:VCALENDAR
